BEGIN:VCALENDAR
VERSION:2.0
PRODID:spatie/icalendar-generator
DESCRIPTION:Events from Bridge Salossa
X-WR-CALDESC:Events from Bridge Salossa
REFRESH-INTERVAL;VALUE=DURATION:PT1440M
X-PUBLISHED-TTL:PT1440M
BEGIN:VTIMEZONE
TZID:Etc/GMT-2
BEGIN:STANDARD
DTSTART:20251218T173000Z
TZOFFSETFROM:+0200
TZOFFSETTO:+0200
END:STANDARD
END:VTIMEZONE
BEGIN:VTIMEZONE
TZID:UTC
BEGIN:STANDARD
DTSTART:20250726T215741Z
TZOFFSETFROM:+0000
TZOFFSETTO:+0000
END:STANDARD
END:VTIMEZONE
BEGIN:VEVENT
UID:655-179
DTSTAMP:20260422T215741Z
SUMMARY:Kerhomestaruus
LOCATION:Cafe Kuiro Halikko Sähkökuja 2  Salo  24800
ORGANIZER;CN=Henri Virtanen:MAILTO:henri.heikinpoika@gmail.com
RRULE:FREQ=WEEKLY;UNTIL=20260922T000000Z
DTSTART;TZID=Etc/GMT-2:20260914T173000
DTEND;TZID=Etc/GMT-2:20260914T183000
X-ALT-DESC;FMTTYPE=TEXT/HTML:Pyritään pelaamaan kaikki kaikkia vastaan Ho
 welina. Mestaruus ratkaistaan kahden kerran yhteistuloksen perusteella.
CATEGORIES:maanantai peli
URL;VALUE=URI:https://www.bridgesalo.fi/mc-events/kerhomestaruus-3/?mc_id=6
 55
METHOD:PUBLISH
END:VEVENT
END:VCALENDAR