BEGIN:VCALENDAR
VERSION:2.0
PRODID:spatie/icalendar-generator
DESCRIPTION:Events from Bridge Salossa
X-WR-CALDESC:Events from Bridge Salossa
REFRESH-INTERVAL;VALUE=DURATION:PT1440M
X-PUBLISHED-TTL:PT1440M
BEGIN:VTIMEZONE
TZID:Etc/GMT-2
BEGIN:STANDARD
DTSTART:20241007T100000Z
TZOFFSETFROM:+0200
TZOFFSETTO:+0200
END:STANDARD
END:VTIMEZONE
BEGIN:VTIMEZONE
TZID:UTC
BEGIN:STANDARD
DTSTART:20250723T222705Z
TZOFFSETFROM:+0000
TZOFFSETTO:+0000
END:STANDARD
END:VTIMEZONE
BEGIN:VEVENT
UID:408-119
DTSTAMP:20260419T222705Z
SUMMARY:Kesäpäivä
LOCATION:
ORGANIZER;CN=Henri Virtanen:MAILTO:henri.heikinpoika@gmail.com
DTSTART;TZID=Etc/GMT-2:20250704T100000
DTEND;TZID=Etc/GMT-2:20250704T200000
X-ALT-DESC;FMTTYPE=TEXT/HTML:Kerhon yhteinen kesäpäivä Lehmirannan ranta
 pirtillä. Pelien ohessa sauna ja grilli kuumana\, omat grillattavat ja ju
 otavat mukaan. Pelataan päivällä n. klo 10-14\,  jonka jälkeen syömi
 nen ja saunomista. Iltapeli n. klo 17-20\, jonka jälkeen voi vielä grill
 ailla. Omavastuu 10 euroa\, maksetaan paikanpäällä. Varaa tasaraha. Ilm
 oittautumiset hallituksen jäsenille.
CATEGORIES:General
URL;VALUE=URI:https://www.bridgesalo.fi/mc-events/kesapaiva/
METHOD:PUBLISH
END:VEVENT
END:VCALENDAR