BEGIN:VCALENDAR
VERSION:2.0
PRODID:spatie/icalendar-generator
DESCRIPTION:Events from Bridge Salossa
X-WR-CALDESC:Events from Bridge Salossa
REFRESH-INTERVAL;VALUE=DURATION:PT1440M
X-PUBLISHED-TTL:PT1440M
BEGIN:VTIMEZONE
TZID:Etc/GMT-2
BEGIN:STANDARD
DTSTART:20240725T110000Z
TZOFFSETFROM:+0200
TZOFFSETTO:+0200
END:STANDARD
END:VTIMEZONE
BEGIN:VTIMEZONE
TZID:UTC
BEGIN:STANDARD
DTSTART:20250725T084606Z
TZOFFSETFROM:+0000
TZOFFSETTO:+0000
END:STANDARD
END:VTIMEZONE
BEGIN:VEVENT
UID:367-116
DTSTAMP:20260421T084606Z
SUMMARY:Kaupunkien välinen ystävyysottelu
LOCATION:
ORGANIZER;CN=Henri Virtanen:MAILTO:henri.heikinpoika@gmail.com
DTSTART;TZID=Etc/GMT-2:20250421T110000
DTEND;TZID=Etc/GMT-2:20250421T120000
X-ALT-DESC;FMTTYPE=TEXT/HTML:Perinteinen Ekenäs Bridgeklubin järjestämä
  ystävyysottelu Tammisaaressa.
CATEGORIES:General
URL;VALUE=URI:https://www.bridgesalo.fi/mc-events/kaupunkien-valinen-ystavy
 ysottelu/
METHOD:PUBLISH
END:VEVENT
END:VCALENDAR