BEGIN:VCALENDAR
VERSION:2.0
PRODID:spatie/icalendar-generator
DESCRIPTION:Events from Bridge Salossa
X-WR-CALDESC:Events from Bridge Salossa
REFRESH-INTERVAL;VALUE=DURATION:PT1440M
X-PUBLISHED-TTL:PT1440M
BEGIN:VTIMEZONE
TZID:Etc/GMT-2
BEGIN:STANDARD
DTSTART:20240504T173000Z
TZOFFSETFROM:+0200
TZOFFSETTO:+0200
END:STANDARD
END:VTIMEZONE
BEGIN:VTIMEZONE
TZID:UTC
BEGIN:STANDARD
DTSTART:20250725T153950Z
TZOFFSETFROM:+0000
TZOFFSETTO:+0000
END:STANDARD
END:VTIMEZONE
BEGIN:VEVENT
UID:286-94
DTSTAMP:20260421T153950Z
SUMMARY:IMP-peli
LOCATION:Cafe Kuiro Halikko Sähkökuja 2  Salo  24800
ORGANIZER;CN=Henri Virtanen:MAILTO:henri.heikinpoika@gmail.com
DTSTART;TZID=Etc/GMT-2:20250129T173000
DTEND;TZID=Etc/GMT-2:20250129T183000
X-ALT-DESC;FMTTYPE=TEXT/HTML:Pelataan IMP-laskennan mukainen peli\, joko pa
 rikilpailuna tai joukkuekilpailuna. Mahdolliset joukkueet kootaan paikanp
 äälle tulleista pareista\, pyrkien mahdollisimman tasaväkisiin joukkuei
 siin. Illan idea on totuttautua IMP-laskentatavan mukanaan tuomiin eroihin
  pelistrategiaa ajatellen.
CATEGORIES:keskiviikko peli
URL;VALUE=URI:https://www.bridgesalo.fi/mc-events/imp-peli/
METHOD:PUBLISH
END:VEVENT
END:VCALENDAR