BEGIN:VCALENDAR
VERSION:2.0
PRODID:spatie/icalendar-generator
DESCRIPTION:Events from Bridge Salossa
X-WR-CALDESC:Events from Bridge Salossa
REFRESH-INTERVAL;VALUE=DURATION:PT1440M
X-PUBLISHED-TTL:PT1440M
BEGIN:VTIMEZONE
TZID:Etc/GMT-2
BEGIN:STANDARD
DTSTART:20240108T180000Z
TZOFFSETFROM:+0200
TZOFFSETTO:+0200
END:STANDARD
END:VTIMEZONE
BEGIN:VTIMEZONE
TZID:UTC
BEGIN:STANDARD
DTSTART:20250725T101127Z
TZOFFSETFROM:+0000
TZOFFSETTO:+0000
END:STANDARD
END:VTIMEZONE
BEGIN:VEVENT
UID:274-85
DTSTAMP:20260421T101127Z
SUMMARY:Warm-up
LOCATION:Cafe Kuiro Halikko Sähkökuja 2  Salo  24800
ORGANIZER;CN=Henri Virtanen:MAILTO:henri.heikinpoika@gmail.com
DTSTART;TZID=Etc/GMT-2:20241004T180000
DTEND;TZID=Etc/GMT-2:20241004T190000
X-ALT-DESC;FMTTYPE=TEXT/HTML:Kisaviikonlopun lämmitelykisa. Kilpailumaksu 
 20 euroa\, ilmoittautumiset liiton sivujen kautta
CATEGORIES:SBL peli
URL;VALUE=URI:https://www.bridgesalo.fi/mc-events/warm-up/
METHOD:PUBLISH
END:VEVENT
END:VCALENDAR