BEGIN:VCALENDAR
VERSION:2.0
PRODID:spatie/icalendar-generator
DESCRIPTION:Events from Bridge Salossa
X-WR-CALDESC:Events from Bridge Salossa
REFRESH-INTERVAL;VALUE=DURATION:PT1440M
X-PUBLISHED-TTL:PT1440M
BEGIN:VTIMEZONE
TZID:Etc/GMT-2
BEGIN:STANDARD
DTSTART:20230525T173000Z
TZOFFSETFROM:+0200
TZOFFSETTO:+0200
END:STANDARD
END:VTIMEZONE
BEGIN:VTIMEZONE
TZID:UTC
BEGIN:STANDARD
DTSTART:20250725T175340Z
TZOFFSETFROM:+0000
TZOFFSETTO:+0000
END:STANDARD
END:VTIMEZONE
BEGIN:VEVENT
UID:223-52
DTSTAMP:20260421T175340Z
SUMMARY:Helmi-Rally
LOCATION:Cafe Kuiro Halikko Sähkökuja 2  Salo  24800
ORGANIZER;CN=Henri Virtanen:MAILTO:henri.heikinpoika@gmail.com
DTSTART;TZID=Etc/GMT-2:20240219T173000
DTEND;TZID=Etc/GMT-2:20240219T183000
X-ALT-DESC;FMTTYPE=TEXT/HTML:Peli-ilta kaikille kerhon pelaajilla. Rohkaise
 mme kokeilemaan pelia uuden parin kanssa\, mutta toki voit luottaa muos va
 nhaan tuttuun pelipartneriisi :) Tavoite on luoda mukava peli-ilta\, jossa
  pääsemme tutustumaan toinen toisiimme samalla kun pelataan normaali noi
 n 30 jaon rally-kisa tasoituksin. Helmi-rally ei ole Talvi-rally sarjan os
 akilpailu vaan se pelataan omana erillisenä kilpailunaan. Tervetuloa kaik
 ki mukaan.
CATEGORIES:maanantai peli
URL;VALUE=URI:https://www.bridgesalo.fi/mc-events/helmi-rally/
METHOD:PUBLISH
END:VEVENT
END:VCALENDAR