BEGIN:VCALENDAR
VERSION:2.0
PRODID:spatie/icalendar-generator
DESCRIPTION:Events from Bridge Salossa
X-WR-CALDESC:Events from Bridge Salossa
REFRESH-INTERVAL;VALUE=DURATION:PT1440M
X-PUBLISHED-TTL:PT1440M
BEGIN:VTIMEZONE
TZID:Etc/GMT-2
BEGIN:STANDARD
DTSTART:20250608T170000Z
TZOFFSETFROM:+0200
TZOFFSETTO:+0200
END:STANDARD
END:VTIMEZONE
BEGIN:VTIMEZONE
TZID:UTC
BEGIN:STANDARD
DTSTART:20250723T125104Z
TZOFFSETFROM:+0000
TZOFFSETTO:+0000
END:STANDARD
END:VTIMEZONE
BEGIN:VEVENT
UID:623-163
DTSTAMP:20260419T125104Z
SUMMARY:Someron peli
LOCATION:Syreenisali Turuntie 14    31400
ORGANIZER;CN=Henri Virtanen:MAILTO:henri.heikinpoika@gmail.com
RRULE:FREQ=WEEKLY;UNTIL=20260612T000000Z
DTSTART;TZID=Etc/GMT-2:20260305T170000
DTEND;TZID=Etc/GMT-2:20260305T180000
X-ALT-DESC;FMTTYPE=TEXT/HTML:
CATEGORIES:Bridge Somero
URL;VALUE=URI:https://www.bridgesalo.fi/mc-events/someron-peli/?mc_id=623
METHOD:PUBLISH
END:VEVENT
END:VCALENDAR