BEGIN:VCALENDAR
VERSION:2.0
PRODID:spatie/icalendar-generator
DESCRIPTION:Events from Bridge Salossa
X-WR-CALDESC:Events from Bridge Salossa
REFRESH-INTERVAL;VALUE=DURATION:PT1440M
X-PUBLISHED-TTL:PT1440M
BEGIN:VTIMEZONE
TZID:Etc/GMT-2
BEGIN:STANDARD
DTSTART:20250814T173000Z
TZOFFSETFROM:+0200
TZOFFSETTO:+0200
END:STANDARD
END:VTIMEZONE
BEGIN:VTIMEZONE
TZID:UTC
BEGIN:STANDARD
DTSTART:20250726T101125Z
TZOFFSETFROM:+0000
TZOFFSETTO:+0000
END:STANDARD
END:VTIMEZONE
BEGIN:VEVENT
UID:611-170
DTSTAMP:20260422T101125Z
SUMMARY:Juffa I
LOCATION:Cafe Kuiro Halikko Sähkökuja 2  Salo  24800
ORGANIZER;CN=Henri Virtanen:MAILTO:henri.heikinpoika@gmail.com
DTSTART;TZID=Etc/GMT-2:20260511T173000
DTEND;TZID=Etc/GMT-2:20260511T183000
X-ALT-DESC;FMTTYPE=TEXT/HTML:Juffa on Salon Bridgekerhon arvostetuin kierto
 palintokilpailu\, jonka voittajapari saa nimensä Juffan pokaaliin. Voitta
 ja määräytyy kahtena perättäisinä viikkoin pelattujen parikilpailuje
 n yhteistuloksen perusteella. Juffan pokaalin on aikanaan lahjoittanut ker
 hon perustajajäsen pankinjohtaja Josef \"Juffa\" Drugg.
CATEGORIES:maanantai peli
URL;VALUE=URI:https://www.bridgesalo.fi/mc-events/juffa-i-2/
METHOD:PUBLISH
END:VEVENT
END:VCALENDAR