BEGIN:VCALENDAR
VERSION:2.0
PRODID:spatie/icalendar-generator
DESCRIPTION:Events from Bridge Salossa
X-WR-CALDESC:Events from Bridge Salossa
REFRESH-INTERVAL;VALUE=DURATION:PT1440M
X-PUBLISHED-TTL:PT1440M
BEGIN:VTIMEZONE
TZID:Etc/GMT-2
BEGIN:STANDARD
DTSTART:20250606T123000Z
TZOFFSETFROM:+0200
TZOFFSETTO:+0200
END:STANDARD
END:VTIMEZONE
BEGIN:VTIMEZONE
TZID:UTC
BEGIN:STANDARD
DTSTART:20250725T102138Z
TZOFFSETFROM:+0000
TZOFFSETTO:+0000
END:STANDARD
END:VTIMEZONE
BEGIN:VEVENT
UID:546-159
DTSTAMP:20260421T102138Z
SUMMARY:Päiväbridge
LOCATION:
ORGANIZER;CN=Henri Virtanen:MAILTO:henri.heikinpoika@gmail.com
RRULE:FREQ=WEEKLY;UNTIL=20260429T000000Z
DTSTART;TZID=Etc/GMT-2:20260303T123000
DTEND;TZID=Etc/GMT-2:20260303T133000
X-ALT-DESC;FMTTYPE=TEXT/HTML:
CATEGORIES:päiväbridge salo
URL;VALUE=URI:https://www.bridgesalo.fi/mc-events/paivabridge-6/?mc_id=546
METHOD:PUBLISH
END:VEVENT
END:VCALENDAR