BEGIN:VCALENDAR
VERSION:2.0
PRODID:spatie/icalendar-generator
DESCRIPTION:Events from Bridge Salossa
X-WR-CALDESC:Events from Bridge Salossa
REFRESH-INTERVAL;VALUE=DURATION:PT1440M
X-PUBLISHED-TTL:PT1440M
BEGIN:VTIMEZONE
TZID:Etc/GMT-2
BEGIN:STANDARD
DTSTART:20241208T170000Z
TZOFFSETFROM:+0200
TZOFFSETTO:+0200
END:STANDARD
END:VTIMEZONE
BEGIN:VTIMEZONE
TZID:UTC
BEGIN:STANDARD
DTSTART:20250723T125524Z
TZOFFSETFROM:+0000
TZOFFSETTO:+0000
END:STANDARD
END:VTIMEZONE
BEGIN:VEVENT
UID:489-142
DTSTAMP:20260419T125524Z
SUMMARY:Somero peli
LOCATION:Syreenisali Turuntie 14    31400
ORGANIZER;CN=Henri Virtanen:MAILTO:henri.heikinpoika@gmail.com
RRULE:FREQ=WEEKLY;UNTIL=20251219T000000Z
DTSTART;TZID=Etc/GMT-2:20250904T170000
DTEND;TZID=Etc/GMT-2:20250904T180000
X-ALT-DESC;FMTTYPE=TEXT/HTML:
CATEGORIES:Bridge Somero
URL;VALUE=URI:https://www.bridgesalo.fi/mc-events/somero-peli-2/?mc_id=489
METHOD:PUBLISH
END:VEVENT
END:VCALENDAR