BEGIN:VCALENDAR
VERSION:2.0
PRODID:spatie/icalendar-generator
DESCRIPTION:Events from Bridge Salossa
X-WR-CALDESC:Events from Bridge Salossa
REFRESH-INTERVAL;VALUE=DURATION:PT1440M
X-PUBLISHED-TTL:PT1440M
BEGIN:VTIMEZONE
TZID:Etc/GMT-2
BEGIN:STANDARD
DTSTART:20250108T100000Z
TZOFFSETFROM:+0200
TZOFFSETTO:+0200
END:STANDARD
END:VTIMEZONE
BEGIN:VTIMEZONE
TZID:UTC
BEGIN:STANDARD
DTSTART:20250726T155602Z
TZOFFSETFROM:+0000
TZOFFSETTO:+0000
END:STANDARD
END:VTIMEZONE
BEGIN:VEVENT
UID:449-136
DTSTAMP:20260422T155602Z
SUMMARY:Salo BK 70v - joukkuekilpailu
LOCATION:Salon Työväentalo Vilhonkatu 9  Salo
ORGANIZER;CN=Henri Virtanen:MAILTO:henri.heikinpoika@gmail.com
DTSTART;TZID=Etc/GMT-2:20251005T100000
DTEND;TZID=Etc/GMT-2:20251005T110000
X-ALT-DESC;FMTTYPE=TEXT/HTML:Salon 70 v juhlaviikonlopun joukkuekisa. Pelim
 aksu 80 euroa per joukkue. Pelipaikalta ostettavissa lounas ja kauppakesku
 s Plazan palvelut ovat ihan vieressä. Osallistu kaikkiin juhlaviikonlopun
  tapahtumiin (warm-up\, ABC\, 70v juhla ja joukkuekilpailu) yhteishintaan 
 100 e per pelaaja (SBK:n jäsenenä 80 e).
CATEGORIES:General
URL;VALUE=URI:https://www.bridgesalo.fi/mc-events/salo-bk-70v-joukkuekilpai
 lu/
METHOD:PUBLISH
END:VEVENT
END:VCALENDAR