BEGIN:VCALENDAR
VERSION:2.0
PRODID:spatie/icalendar-generator
DESCRIPTION:Events from Bridge Salossa
X-WR-CALDESC:Events from Bridge Salossa
REFRESH-INTERVAL;VALUE=DURATION:PT1440M
X-PUBLISHED-TTL:PT1440M
BEGIN:VTIMEZONE
TZID:Etc/GMT-2
BEGIN:STANDARD
DTSTART:20250107T190000Z
TZOFFSETFROM:+0200
TZOFFSETTO:+0200
END:STANDARD
END:VTIMEZONE
BEGIN:VTIMEZONE
TZID:UTC
BEGIN:STANDARD
DTSTART:20250726T140834Z
TZOFFSETFROM:+0000
TZOFFSETTO:+0000
END:STANDARD
END:VTIMEZONE
BEGIN:VEVENT
UID:448-135
DTSTAMP:20260422T140834Z
SUMMARY:Salon BK 70v juhla
LOCATION:Salon Työväentalo Vilhonkatu 9  Salo
ORGANIZER;CN=Henri Virtanen:MAILTO:henri.heikinpoika@gmail.com
DTSTART;TZID=Etc/GMT-2:20251004T190000
DTEND;TZID=Etc/GMT-2:20251004T200000
X-ALT-DESC;FMTTYPE=TEXT/HTML:Tarjolla puheita\, musiikkia\, hyvää ruokaa\
 , muistelua ja hauskaa ohjelmaa. Kutsu on avec. Ilmoita avec erikseen. Ilm
 oita mahdolliset ruoka-aineallergiat. Salo bridgekerhon jäsenille illalli
 skortin hinta on 20 € (avec 50 €)\, ilmoittautumiset kerhon peli-illoi
 ssa. Muille illalliskortin hinta on 50 €/henkilö ja se sisältää ruok
 ailun ja illan juomat. Ilmoittatumiset liiton sivujen kautta Mikäli osall
 istut myös kaikkiin kilpailuihin (pe&amp;hellip\;
CATEGORIES:General
URL;VALUE=URI:https://www.bridgesalo.fi/mc-events/salon-bk-70v-juhla/
METHOD:PUBLISH
END:VEVENT
END:VCALENDAR