BEGIN:VCALENDAR
VERSION:2.0
PRODID:spatie/icalendar-generator
DESCRIPTION:Events from Bridge Salossa
X-WR-CALDESC:Events from Bridge Salossa
REFRESH-INTERVAL;VALUE=DURATION:PT1440M
X-PUBLISHED-TTL:PT1440M
BEGIN:VTIMEZONE
TZID:Etc/GMT-2
BEGIN:STANDARD
DTSTART:20250107T100000Z
TZOFFSETFROM:+0200
TZOFFSETTO:+0200
END:STANDARD
END:VTIMEZONE
BEGIN:VTIMEZONE
TZID:UTC
BEGIN:STANDARD
DTSTART:20250726T123452Z
TZOFFSETFROM:+0000
TZOFFSETTO:+0000
END:STANDARD
END:VTIMEZONE
BEGIN:VEVENT
UID:447-134
DTSTAMP:20260422T123452Z
SUMMARY:Salo BK 70v - ABC parikilpailu
LOCATION:Salon Työväentalo Vilhonkatu 9  Salo
ORGANIZER;CN=Henri Virtanen:MAILTO:henri.heikinpoika@gmail.com
DTSTART;TZID=Etc/GMT-2:20251004T100000
DTEND;TZID=Etc/GMT-2:20251004T110000
X-ALT-DESC;FMTTYPE=TEXT/HTML:Salon 70 v juhlaviikonlopun ABC-kisa. Pelimaks
 u 25 euroa. Pelipaikalta ostettavissa lounas ja kauppakeskus Plazan palvel
 ut ovat ihan vieressä. Normaalien kilpailupalkintojen lisäksi kaikki kis
 aan osallistuvat ovat mukana mahtavien tuotepalkintojen arvonnassa. Osalli
 stu kaikkiin juhlaviikonlopun tapahtumiin (warm-up\, ABC\, 70v juhla ja jo
 ukkuekilpailu) yhteishintaan 100 e (SBK:n jäsenenä 80 e).
CATEGORIES:General
URL;VALUE=URI:https://www.bridgesalo.fi/mc-events/salo-bk-70v-abc-parikilpa
 ilu/
METHOD:PUBLISH
END:VEVENT
END:VCALENDAR