BEGIN:VCALENDAR
VERSION:2.0
PRODID:spatie/icalendar-generator
DESCRIPTION:Events from Bridge Salossa
X-WR-CALDESC:Events from Bridge Salossa
REFRESH-INTERVAL;VALUE=DURATION:PT1440M
X-PUBLISHED-TTL:PT1440M
BEGIN:VTIMEZONE
TZID:Etc/GMT-2
BEGIN:STANDARD
DTSTART:20250106T180000Z
TZOFFSETFROM:+0200
TZOFFSETTO:+0200
END:STANDARD
END:VTIMEZONE
BEGIN:VTIMEZONE
TZID:UTC
BEGIN:STANDARD
DTSTART:20250726T105139Z
TZOFFSETFROM:+0000
TZOFFSETTO:+0000
END:STANDARD
END:VTIMEZONE
BEGIN:VEVENT
UID:446-133
DTSTAMP:20260422T105139Z
SUMMARY:Salo BK 70v - warm-up
LOCATION:Salon Työväentalo Vilhonkatu 9  Salo
ORGANIZER;CN=Henri Virtanen:MAILTO:henri.heikinpoika@gmail.com
DTSTART;TZID=Etc/GMT-2:20251003T180000
DTEND;TZID=Etc/GMT-2:20251003T190000
X-ALT-DESC;FMTTYPE=TEXT/HTML:Salon 70 v juhlaviikonlopun lämmitelykisa. Pe
 limaksu 15 euroa. Pelipaikalta ostettavissa pientä purtavaa ja kauppakesk
 us Plazan palvelut ovat ihan vieressä. Osallistu kaikkiin juhlaviikonlopu
 n tapahtumiin (warm-up\, ABC\, 70v juhla ja joukkuekilpailu) yhteishintaan
  100 e (SBK:n jäsenenä 80 e). &amp;nbsp\;
CATEGORIES:General
URL;VALUE=URI:https://www.bridgesalo.fi/mc-events/salo-bk-70v-warm-up/
METHOD:PUBLISH
END:VEVENT
END:VCALENDAR