BEGIN:VCALENDAR
VERSION:2.0
PRODID:spatie/icalendar-generator
DESCRIPTION:Events from Bridge Salossa
X-WR-CALDESC:Events from Bridge Salossa
REFRESH-INTERVAL;VALUE=DURATION:PT1440M
X-PUBLISHED-TTL:PT1440M
BEGIN:VTIMEZONE
TZID:Etc/GMT-2
BEGIN:STANDARD
DTSTART:20240827T100000Z
TZOFFSETFROM:+0200
TZOFFSETTO:+0200
END:STANDARD
END:VTIMEZONE
BEGIN:VTIMEZONE
TZID:UTC
BEGIN:STANDARD
DTSTART:20250723T163028Z
TZOFFSETFROM:+0000
TZOFFSETTO:+0000
END:STANDARD
END:VTIMEZONE
BEGIN:VEVENT
UID:371-117
DTSTAMP:20260419T163028Z
SUMMARY:Ystävyysottelu
LOCATION:
ORGANIZER;CN=Henri Virtanen:MAILTO:henri.heikinpoika@gmail.com
DTSTART;TZID=Etc/GMT-2:20250524T100000
DTEND;TZID=Etc/GMT-2:20250524T110000
X-ALT-DESC;FMTTYPE=TEXT/HTML:Perinteinen Salo-Hämeenlinna-Kulo bridgekerho
 jen välinen ystävyysottelu. Puistos ravintola\, Anistenkatu 1
CATEGORIES:General
URL;VALUE=URI:https://www.bridgesalo.fi/mc-events/ystavyysottelu-2/
METHOD:PUBLISH
END:VEVENT
END:VCALENDAR