BEGIN:VCALENDAR
VERSION:2.0
PRODID:spatie/icalendar-generator
DESCRIPTION:Events from Bridge Salossa
X-WR-CALDESC:Events from Bridge Salossa
REFRESH-INTERVAL;VALUE=DURATION:PT1440M
X-PUBLISHED-TTL:PT1440M
BEGIN:VTIMEZONE
TZID:Etc/GMT-2
BEGIN:STANDARD
DTSTART:20240622T180000Z
TZOFFSETFROM:+0200
TZOFFSETTO:+0200
END:STANDARD
END:VTIMEZONE
BEGIN:VTIMEZONE
TZID:UTC
BEGIN:STANDARD
DTSTART:20250726T095227Z
TZOFFSETFROM:+0000
TZOFFSETTO:+0000
END:STANDARD
END:VTIMEZONE
BEGIN:VEVENT
UID:335-112
DTSTAMP:20260422T095227Z
SUMMARY:Marian juhlakisa
LOCATION:Salon Kuiro Helsingintie 5  Salo  24100
ORGANIZER;CN=Henri Virtanen:MAILTO:henri.heikinpoika@gmail.com
DTSTART;TZID=Etc/GMT-2:20250319T180000
DTEND;TZID=Etc/GMT-2:20250319T183000
X-ALT-DESC;FMTTYPE=TEXT/HTML:Maria Myllärin 30-vuotis syntymäpäivän kun
 niaksi pelataan voittopistekilpailu\, jonka tuotolla tuetaan Marian kokoam
 an joukkueen osallistumista Puolassa kesällä 2025 pelattavaan European T
 ransnational Championships kilpailuun. Kunnon synttärijuhlan tapaan nauti
 mme pelin lomassa kakkukahvit. Pelimaksu 15 euroa. Ilmoittautumisohjeet ju
 lkaistaan myöhemmin.
CATEGORIES:General
URL;VALUE=URI:https://www.bridgesalo.fi/mc-events/marian-juhlakisa/
METHOD:PUBLISH
END:VEVENT
END:VCALENDAR