BEGIN:VCALENDAR
VERSION:2.0
PRODID:spatie/icalendar-generator
DESCRIPTION:Events from Bridge Salossa
X-WR-CALDESC:Events from Bridge Salossa
REFRESH-INTERVAL;VALUE=DURATION:PT1440M
X-PUBLISHED-TTL:PT1440M
BEGIN:VTIMEZONE
TZID:Etc/GMT-2
BEGIN:STANDARD
DTSTART:20240524T123000Z
TZOFFSETFROM:+0200
TZOFFSETTO:+0200
END:STANDARD
END:VTIMEZONE
BEGIN:VTIMEZONE
TZID:UTC
BEGIN:STANDARD
DTSTART:20250726T073225Z
TZOFFSETFROM:+0000
TZOFFSETTO:+0000
END:STANDARD
END:VTIMEZONE
BEGIN:VEVENT
UID:292-95
DTSTAMP:20260422T073225Z
SUMMARY:Päiväbridge
LOCATION:
ORGANIZER;CN=Henri Virtanen:MAILTO:henri.heikinpoika@gmail.com
RRULE:FREQ=WEEKLY;UNTIL=20250430T000000Z
DTSTART;TZID=Etc/GMT-2:20250218T123000
DTEND;TZID=Etc/GMT-2:20250218T154500
X-ALT-DESC;FMTTYPE=TEXT/HTML:
CATEGORIES:päiväbridge salo
URL;VALUE=URI:https://www.bridgesalo.fi/mc-events/paivabridge-4/?mc_id=292
METHOD:PUBLISH
END:VEVENT
END:VCALENDAR