BEGIN:VCALENDAR
VERSION:2.0
PRODID:spatie/icalendar-generator
DESCRIPTION:Events from Bridge Salossa
X-WR-CALDESC:Events from Bridge Salossa
REFRESH-INTERVAL;VALUE=DURATION:PT1440M
X-PUBLISHED-TTL:PT1440M
BEGIN:VTIMEZONE
TZID:Etc/GMT-2
BEGIN:STANDARD
DTSTART:20230829T000000Z
TZOFFSETFROM:+0200
TZOFFSETTO:+0200
END:STANDARD
END:VTIMEZONE
BEGIN:VTIMEZONE
TZID:UTC
BEGIN:STANDARD
DTSTART:20250723T183654Z
TZOFFSETFROM:+0000
TZOFFSETTO:+0000
END:STANDARD
END:VTIMEZONE
BEGIN:VEVENT
UID:268-78
DTSTAMP:20260419T183654Z
SUMMARY:Ystävyysottelu
LOCATION:
ORGANIZER;CN=Henri Virtanen:MAILTO:henri.heikinpoika@gmail.com
DTSTART;TZID=Etc/GMT-2;VALUE=DATE:20240525
DTEND;TZID=Etc/GMT-2;VALUE=DATE:20240526
X-ALT-DESC;FMTTYPE=TEXT/HTML:Perinteinen Salo\, Kulo\, Hämeenlinna\, Akaa 
 ystävyysottelu. Waltikka\, Hakalantie 6\, Valkeakoski
CATEGORIES:SBL peli
URL;VALUE=URI:https://www.bridgesalo.fi/mc-events/ystavyysottelu/
METHOD:PUBLISH
END:VEVENT
END:VCALENDAR