BEGIN:VCALENDAR
VERSION:2.0
PRODID:spatie/icalendar-generator
DESCRIPTION:Events from Bridge Salossa
X-WR-CALDESC:Events from Bridge Salossa
REFRESH-INTERVAL;VALUE=DURATION:PT1440M
X-PUBLISHED-TTL:PT1440M
BEGIN:VTIMEZONE
TZID:Etc/GMT-2
BEGIN:STANDARD
DTSTART:20230706T110000Z
TZOFFSETFROM:+0200
TZOFFSETTO:+0200
END:STANDARD
END:VTIMEZONE
BEGIN:VTIMEZONE
TZID:UTC
BEGIN:STANDARD
DTSTART:20250726T063737Z
TZOFFSETFROM:+0000
TZOFFSETTO:+0000
END:STANDARD
END:VTIMEZONE
BEGIN:VEVENT
UID:267-77
DTSTAMP:20260422T063737Z
SUMMARY:Ystävyysottelu Tammisaaressa
LOCATION:
ORGANIZER;CN=Henri Virtanen:MAILTO:henri.heikinpoika@gmail.com
DTSTART;TZID=Etc/GMT-2:20240401T110000
DTEND;TZID=Etc/GMT-2:20240401T170000
X-ALT-DESC;FMTTYPE=TEXT/HTML:Ystadinkatu 2\, Raasepori Parikilpailu\, pelim
 aksu 5€.
CATEGORIES:General
URL;VALUE=URI:https://www.bridgesalo.fi/mc-events/ystavyysottelu-tammisaare
 ssa/
METHOD:PUBLISH
END:VEVENT
END:VCALENDAR