BEGIN:VCALENDAR
VERSION:2.0
PRODID:spatie/icalendar-generator
DESCRIPTION:Events from Bridge Salossa
X-WR-CALDESC:Events from Bridge Salossa
REFRESH-INTERVAL;VALUE=DURATION:PT1440M
X-PUBLISHED-TTL:PT1440M
BEGIN:VTIMEZONE
TZID:Etc/GMT-2
BEGIN:STANDARD
DTSTART:20231221T173000Z
TZOFFSETFROM:+0200
TZOFFSETTO:+0200
END:STANDARD
END:VTIMEZONE
BEGIN:VTIMEZONE
TZID:UTC
BEGIN:STANDARD
DTSTART:20250724T072712Z
TZOFFSETFROM:+0000
TZOFFSETTO:+0000
END:STANDARD
END:VTIMEZONE
BEGIN:VEVENT
UID:252-69
DTSTAMP:20260420T072712Z
SUMMARY:Kerhomestaruus
LOCATION:Cafe Kuiro Halikko Sähkökuja 2  Salo  24800
ORGANIZER;CN=Henri Virtanen:MAILTO:henri.heikinpoika@gmail.com
RRULE:FREQ=WEEKLY;UNTIL=20240930T000000Z
DTSTART;TZID=Etc/GMT-2:20240916T173000
DTEND;TZID=Etc/GMT-2:20240916T183000
X-ALT-DESC;FMTTYPE=TEXT/HTML:
CATEGORIES:maanantai peli
URL;VALUE=URI:https://www.bridgesalo.fi/mc-events/kerhomestaruus/?mc_id=252
METHOD:PUBLISH
END:VEVENT
END:VCALENDAR