BEGIN:VCALENDAR
VERSION:2.0
PRODID:spatie/icalendar-generator
DESCRIPTION:Events from Bridge Salossa
X-WR-CALDESC:Events from Bridge Salossa
REFRESH-INTERVAL;VALUE=DURATION:PT1440M
X-PUBLISHED-TTL:PT1440M
BEGIN:VTIMEZONE
TZID:Etc/GMT-2
BEGIN:STANDARD
DTSTART:20230707T173000Z
TZOFFSETFROM:+0200
TZOFFSETTO:+0200
END:STANDARD
END:VTIMEZONE
BEGIN:VTIMEZONE
TZID:UTC
BEGIN:STANDARD
DTSTART:20250726T101257Z
TZOFFSETFROM:+0000
TZOFFSETTO:+0000
END:STANDARD
END:VTIMEZONE
BEGIN:VEVENT
UID:228-55
DTSTAMP:20260422T101257Z
SUMMARY:Kevät-Pari
LOCATION:Cafe Kuiro Halikko Sähkökuja 2  Salo  24800
ORGANIZER;CN=Henri Virtanen:MAILTO:henri.heikinpoika@gmail.com
DTSTART;TZID=Etc/GMT-2:20240402T173000
DTEND;TZID=Etc/GMT-2:20240402T183000
X-ALT-DESC;FMTTYPE=TEXT/HTML:Huomio päivä! Pääsiäismaanantain takia pe
 laamme tiistaina.
CATEGORIES:maanantai peli
URL;VALUE=URI:https://www.bridgesalo.fi/mc-events/kevat-pari/
METHOD:PUBLISH
END:VEVENT
END:VCALENDAR