BEGIN:VCALENDAR
VERSION:2.0
PRODID:spatie/icalendar-generator
DESCRIPTION:Events from Bridge Salossa
X-WR-CALDESC:Events from Bridge Salossa
REFRESH-INTERVAL;VALUE=DURATION:PT1440M
X-PUBLISHED-TTL:PT1440M
BEGIN:VTIMEZONE
TZID:Etc/GMT-2
BEGIN:STANDARD
DTSTART:20230408T173000Z
TZOFFSETFROM:+0200
TZOFFSETTO:+0200
END:STANDARD
END:VTIMEZONE
BEGIN:VTIMEZONE
TZID:UTC
BEGIN:STANDARD
DTSTART:20250725T102910Z
TZOFFSETFROM:+0000
TZOFFSETTO:+0000
END:STANDARD
END:VTIMEZONE
BEGIN:VEVENT
UID:131-38
DTSTAMP:20260421T102910Z
SUMMARY:Rabbit
LOCATION:Cafe Kuiro Halikko Sähkökuja 2  Salo  24800
ORGANIZER;CN=Isto Valkama:MAILTO:isto.valkama@gmail.com
DTSTART;TZID=Etc/GMT-2:20240103T173000
DTEND;TZID=Etc/GMT-2:20240103T210000
X-ALT-DESC;FMTTYPE=TEXT/HTML:
CATEGORIES:keskiviikko peli
URL;VALUE=URI:https://www.bridgesalo.fi/mc-events/rabbit-3/
METHOD:PUBLISH
END:VEVENT
END:VCALENDAR